BEGIN:VCALENDAR
VERSION:2.0
PRODID:-//Department Of Education//63f2262d-dfe2-495e-8402-deb0b7dbe435
BEGIN:VTIMEZONE
TZID:Australia/Sydney
TZURL:http://tzurl.org/zoneinfo-outlook/Australia/Sydney
X-LIC-LOCATION:Australia/Sydney
BEGIN:STANDARD
TZOFFSETFROM:+1100
TZOFFSETTO:+1000
TZNAME:AEST
DTSTART:19700405T030000
RRULE:FREQ=YEARLY;BYMONTH=4;BYDAY=1SU
END:STANDARD
BEGIN:DAYLIGHT
TZOFFSETFROM:+1000
TZOFFSETTO:+1100
TZNAME:AEDT
DTSTART:19701004T020000
RRULE:FREQ=YEARLY;BYMONTH=10;BYDAY=1SU
END:DAYLIGHT
END:VTIMEZONE
CALSCALE:GREGORIAN
X-WR-TIMEZONE:Australia/Sydney
BEGIN:VEVENT
DTSTART;TZID=Australia/Sydney:20200306T083000
DTEND;TZID=Australia/Sydney:20200306T144600
DTSTAMP:20200306T000000Z
UID:17744adf-7d6c-4dbf-9b74-65b00747ab70
LOCATION:Jamberoo Action Park
SUMMARY;LANGUAGE=en-us:Jamberoo Excursion
SEQUENCE:0
DESCRIPTION:When: Friday 6 March 2020 Who: Anyone that went to the swimming carnival and competed in at least one event Uniform: Students are allowed to wear mufti but must be appropriate clothing for swimming Cost: $45.00 or $15.00 for season pass holders. Students will receive a discount if they participated at the school swimming carnival and if they represent the school at the Zone swimming carnival next Tuesday 25 February What to bring: Swimmers, towel, sunscreen, food and drink, joggers for the toboggans NOTE: Students need to get their permission note from Mr McNeils office and return the notes and money to the front office ASAP
END:VEVENT
TRANSP:TRANSPARENT
END:VCALENDAR
