BEGIN:VCALENDAR
VERSION:2.0
PRODID:-//Department Of Education//56b8724c-6100-447f-b3c0-0fc68e3a97f2
BEGIN:VTIMEZONE
TZID:Australia/Sydney
TZURL:http://tzurl.org/zoneinfo-outlook/Australia/Sydney
X-LIC-LOCATION:Australia/Sydney
BEGIN:STANDARD
TZOFFSETFROM:+1100
TZOFFSETTO:+1000
TZNAME:AEST
DTSTART:19700405T030000
RRULE:FREQ=YEARLY;BYMONTH=4;BYDAY=1SU
END:STANDARD
BEGIN:DAYLIGHT
TZOFFSETFROM:+1000
TZOFFSETTO:+1100
TZNAME:AEDT
DTSTART:19701004T020000
RRULE:FREQ=YEARLY;BYMONTH=10;BYDAY=1SU
END:DAYLIGHT
END:VTIMEZONE
CALSCALE:GREGORIAN
X-WR-TIMEZONE:Australia/Sydney
BEGIN:VEVENT
DTSTART;TZID=Australia/Sydney:20200319T102007
DTEND;TZID=Australia/Sydney:20200319T130000
DTSTAMP:20200319T000000Z
UID:c792afb7-f9fb-4010-8434-21c385d7a65a
LOCATION:Shoalhaven Waste Transfer Depot and SCC
SUMMARY;LANGUAGE=en-us:Shoalhaven Waste Transfer Depot and SCC Excursion
SEQUENCE:0
DESCRIPTION:Shoalhaven Waste Transfer Depot and SCC Excursion
END:VEVENT
TRANSP:TRANSPARENT
END:VCALENDAR
