BEGIN:VCALENDAR
VERSION:2.0
PRODID:-//Department Of Education//b8e242d4-79bf-4586-bfaf-8bc36707248d
BEGIN:VTIMEZONE
TZID:Australia/Sydney
TZURL:http://tzurl.org/zoneinfo-outlook/Australia/Sydney
X-LIC-LOCATION:Australia/Sydney
BEGIN:STANDARD
TZOFFSETFROM:+1100
TZOFFSETTO:+1000
TZNAME:AEST
DTSTART:19700405T030000
RRULE:FREQ=YEARLY;BYMONTH=4;BYDAY=1SU
END:STANDARD
BEGIN:DAYLIGHT
TZOFFSETFROM:+1000
TZOFFSETTO:+1100
TZNAME:AEDT
DTSTART:19701004T020000
RRULE:FREQ=YEARLY;BYMONTH=10;BYDAY=1SU
END:DAYLIGHT
END:VTIMEZONE
CALSCALE:GREGORIAN
X-WR-TIMEZONE:Australia/Sydney
BEGIN:VEVENT
DTSTART;VALUE=DATE:20200411
DTEND;VALUE=DATE:20200412
DTSTAMP:20200411T000000Z
UID:18685a9f-9c4b-4aab-9da8-319c56170501
LOCATION:Shoalhaven High School
SUMMARY;LANGUAGE=en-us:Easter Saturday
SEQUENCE:0
DESCRIPTION:Easter Saturday - Public Holiday  
END:VEVENT
TRANSP:TRANSPARENT
END:VCALENDAR
