BEGIN:VCALENDAR
VERSION:2.0
PRODID:-//Department Of Education//4214470c-f5e5-4dff-9df9-8eacec486893
BEGIN:VTIMEZONE
TZID:Australia/Sydney
TZURL:http://tzurl.org/zoneinfo-outlook/Australia/Sydney
X-LIC-LOCATION:Australia/Sydney
BEGIN:STANDARD
TZOFFSETFROM:+1100
TZOFFSETTO:+1000
TZNAME:AEST
DTSTART:19700405T030000
RRULE:FREQ=YEARLY;BYMONTH=4;BYDAY=1SU
END:STANDARD
BEGIN:DAYLIGHT
TZOFFSETFROM:+1000
TZOFFSETTO:+1100
TZNAME:AEDT
DTSTART:19701004T020000
RRULE:FREQ=YEARLY;BYMONTH=10;BYDAY=1SU
END:DAYLIGHT
END:VTIMEZONE
CALSCALE:GREGORIAN
X-WR-TIMEZONE:Australia/Sydney
BEGIN:VEVENT
DTSTART;VALUE=DATE:20200412
DTEND;VALUE=DATE:20200413
DTSTAMP:20200412T000000Z
UID:02de9967-7fed-4ba7-bf24-bcd3802e9fff
LOCATION:Shoalhaven High School
SUMMARY;LANGUAGE=en-us:Easter Sunday
SEQUENCE:0
DESCRIPTION:Easter Sunday - Public Holiday
END:VEVENT
TRANSP:TRANSPARENT
END:VCALENDAR
