BEGIN:VCALENDAR
VERSION:2.0
PRODID:-//Department Of Education//9a5864bf-db32-4df0-adaa-9eeff9ebfd83
BEGIN:VTIMEZONE
TZID:Australia/Sydney
TZURL:http://tzurl.org/zoneinfo-outlook/Australia/Sydney
X-LIC-LOCATION:Australia/Sydney
BEGIN:STANDARD
TZOFFSETFROM:+1100
TZOFFSETTO:+1000
TZNAME:AEST
DTSTART:19700405T030000
RRULE:FREQ=YEARLY;BYMONTH=4;BYDAY=1SU
END:STANDARD
BEGIN:DAYLIGHT
TZOFFSETFROM:+1000
TZOFFSETTO:+1100
TZNAME:AEDT
DTSTART:19701004T020000
RRULE:FREQ=YEARLY;BYMONTH=10;BYDAY=1SU
END:DAYLIGHT
END:VTIMEZONE
CALSCALE:GREGORIAN
X-WR-TIMEZONE:Australia/Sydney
BEGIN:VEVENT
DTSTART;TZID=Australia/Sydney:20200409T083000
DTEND;TZID=Australia/Sydney:20200409T144600
DTSTAMP:20200409T000000Z
UID:71f71f8f-17ac-4a06-99f9-3eebec074b62
LOCATION:Shoalhaven High School
SUMMARY;LANGUAGE=en-us:Last Day of Term 1
SEQUENCE:0
DESCRIPTION:Last day of Term 1  
END:VEVENT
TRANSP:TRANSPARENT
END:VCALENDAR
